BEGIN:VCALENDAR
VERSION:2.0
PRODID:-//Pfarre Deutschkreutz - ECPv6.15.20//NONSGML v1.0//EN
CALSCALE:GREGORIAN
METHOD:PUBLISH
X-WR-CALNAME:Pfarre Deutschkreutz
X-ORIGINAL-URL:https://pfarredeutschkreutz.at
X-WR-CALDESC:Veranstaltungen für Pfarre Deutschkreutz
REFRESH-INTERVAL;VALUE=DURATION:PT1H
X-Robots-Tag:noindex
X-PUBLISHED-TTL:PT1H
BEGIN:VTIMEZONE
TZID:Europe/Vienna
BEGIN:DAYLIGHT
TZOFFSETFROM:+0100
TZOFFSETTO:+0200
TZNAME:CEST
DTSTART:20250330T010000
END:DAYLIGHT
BEGIN:STANDARD
TZOFFSETFROM:+0200
TZOFFSETTO:+0100
TZNAME:CET
DTSTART:20251026T010000
END:STANDARD
BEGIN:DAYLIGHT
TZOFFSETFROM:+0100
TZOFFSETTO:+0200
TZNAME:CEST
DTSTART:20260329T010000
END:DAYLIGHT
BEGIN:STANDARD
TZOFFSETFROM:+0200
TZOFFSETTO:+0100
TZNAME:CET
DTSTART:20261025T010000
END:STANDARD
BEGIN:DAYLIGHT
TZOFFSETFROM:+0100
TZOFFSETTO:+0200
TZNAME:CEST
DTSTART:20270328T010000
END:DAYLIGHT
BEGIN:STANDARD
TZOFFSETFROM:+0200
TZOFFSETTO:+0100
TZNAME:CET
DTSTART:20271031T010000
END:STANDARD
END:VTIMEZONE
BEGIN:VEVENT
DTSTART;TZID=Europe/Vienna:20260327T150000
DTEND;TZID=Europe/Vienna:20260327T150000
DTSTAMP:20260420T161942
CREATED:20260327T123435Z
LAST-MODIFIED:20260327T123435Z
UID:3491-1774623600-1774623600@pfarredeutschkreutz.at
SUMMARY:Kinderkreuzweg in Deutschkreutz
DESCRIPTION:
URL:https://pfarredeutschkreutz.at/termin/kinderkreuzweg-in-deutschkreutz-3/
LOCATION:Pfarrkirche Deutschkreutz
CATEGORIES:Andacht
END:VEVENT
BEGIN:VEVENT
DTSTART;TZID=Europe/Vienna:20260327T160000
DTEND;TZID=Europe/Vienna:20260327T160000
DTSTAMP:20260420T161942
CREATED:20260327T123435Z
LAST-MODIFIED:20260327T123435Z
UID:3492-1774627200-1774627200@pfarredeutschkreutz.at
SUMMARY:Beichtgelegenheit in Deutschkreutz
DESCRIPTION:
URL:https://pfarredeutschkreutz.at/termin/beichtgelegenheit-in-deutschkreutz-4/
LOCATION:Pfarrkirche Deutschkreutz
CATEGORIES:Beichte
END:VEVENT
BEGIN:VEVENT
DTSTART;TZID=Europe/Vienna:20260327T180000
DTEND;TZID=Europe/Vienna:20260327T180000
DTSTAMP:20260420T161942
CREATED:20260327T123435Z
LAST-MODIFIED:20260327T123435Z
UID:3493-1774634400-1774634400@pfarredeutschkreutz.at
SUMMARY:Kreuzweg der Vereine in Neckenmarkt
DESCRIPTION:
URL:https://pfarredeutschkreutz.at/termin/kreuzweg-der-vereine-in-neckenmarkt-2/
LOCATION:Pfarrkirche Neckenmarkt
CATEGORIES:Andacht
END:VEVENT
BEGIN:VEVENT
DTSTART;TZID=Europe/Vienna:20260328T180000
DTEND;TZID=Europe/Vienna:20260328T180000
DTSTAMP:20260420T161942
CREATED:20260327T123435Z
LAST-MODIFIED:20260327T123435Z
UID:3494-1774720800-1774720800@pfarredeutschkreutz.at
SUMMARY:Sonntag-Vorabendmesse in Deutschkreutz
DESCRIPTION:
URL:https://pfarredeutschkreutz.at/termin/sonntag-vorabendmesse-in-deutschkreutz-30/
LOCATION:Pfarrkirche Deutschkreutz
CATEGORIES:Gottesdienst
END:VEVENT
BEGIN:VEVENT
DTSTART;TZID=Europe/Vienna:20260329T080000
DTEND;TZID=Europe/Vienna:20260329T080000
DTSTAMP:20260420T161942
CREATED:20260327T123435Z
LAST-MODIFIED:20260327T123435Z
UID:3495-1774771200-1774771200@pfarredeutschkreutz.at
SUMMARY:Palmweihe vor der Kirche anschließend Hl. Messe in Neckenmarkt
DESCRIPTION:
URL:https://pfarredeutschkreutz.at/termin/palmweihe-vor-der-kirche-anschliessend-hl-messe-in-neckenmarkt/
LOCATION:Pfarrkirche Neckenmarkt
CATEGORIES:Gottesdienst
END:VEVENT
BEGIN:VEVENT
DTSTART;TZID=Europe/Vienna:20260329T100000
DTEND;TZID=Europe/Vienna:20260329T100000
DTSTAMP:20260420T161942
CREATED:20260327T123442Z
LAST-MODIFIED:20260327T123442Z
UID:3496-1774778400-1774778400@pfarredeutschkreutz.at
SUMMARY:Palmweihe bei der Johanneskapelle - Palmprozession - anschließend Hl. Messe in Deutschkreutz
DESCRIPTION:
URL:https://pfarredeutschkreutz.at/termin/palmweihe-bei-der-johanneskapelle-palmprozession-anschliessend-hl-messe-in-deutschkreutz/
LOCATION:Pfarrkirche Deutschkreutz
CATEGORIES:Gottesdienst
END:VEVENT
BEGIN:VEVENT
DTSTART;TZID=Europe/Vienna:20260329T140000
DTEND;TZID=Europe/Vienna:20260329T140000
DTSTAMP:20260420T161942
CREATED:20260327T123442Z
LAST-MODIFIED:20260327T123442Z
UID:3497-1774792800-1774792800@pfarredeutschkreutz.at
SUMMARY:Kreuzwegandacht in Deutschkreutz
DESCRIPTION:
URL:https://pfarredeutschkreutz.at/termin/kreuzwegandacht-in-deutschkreutz-3/
LOCATION:Pfarrkirche Deutschkreutz
CATEGORIES:Andacht
END:VEVENT
BEGIN:VEVENT
DTSTART;TZID=Europe/Vienna:20260331T180000
DTEND;TZID=Europe/Vienna:20260331T180000
DTSTAMP:20260420T161942
CREATED:20260327T123442Z
LAST-MODIFIED:20260327T123442Z
UID:3498-1774980000-1774980000@pfarredeutschkreutz.at
SUMMARY:Hl. Messe in Neckenmarkt
DESCRIPTION:
URL:https://pfarredeutschkreutz.at/termin/hl-messe-in-neckenmarkt-68/
LOCATION:Pfarrkirche Neckenmarkt
CATEGORIES:Gottesdienst
END:VEVENT
END:VCALENDAR