BEGIN:VCALENDAR
VERSION:2.0
PRODID:-//Pfarre Deutschkreutz - ECPv6.15.20//NONSGML v1.0//EN
CALSCALE:GREGORIAN
METHOD:PUBLISH
X-WR-CALNAME:Pfarre Deutschkreutz
X-ORIGINAL-URL:https://pfarredeutschkreutz.at
X-WR-CALDESC:Veranstaltungen für Pfarre Deutschkreutz
REFRESH-INTERVAL;VALUE=DURATION:PT1H
X-Robots-Tag:noindex
X-PUBLISHED-TTL:PT1H
BEGIN:VTIMEZONE
TZID:Europe/Vienna
BEGIN:DAYLIGHT
TZOFFSETFROM:+0100
TZOFFSETTO:+0200
TZNAME:CEST
DTSTART:20250330T010000
END:DAYLIGHT
BEGIN:STANDARD
TZOFFSETFROM:+0200
TZOFFSETTO:+0100
TZNAME:CET
DTSTART:20251026T010000
END:STANDARD
BEGIN:DAYLIGHT
TZOFFSETFROM:+0100
TZOFFSETTO:+0200
TZNAME:CEST
DTSTART:20260329T010000
END:DAYLIGHT
BEGIN:STANDARD
TZOFFSETFROM:+0200
TZOFFSETTO:+0100
TZNAME:CET
DTSTART:20261025T010000
END:STANDARD
BEGIN:DAYLIGHT
TZOFFSETFROM:+0100
TZOFFSETTO:+0200
TZNAME:CEST
DTSTART:20270328T010000
END:DAYLIGHT
BEGIN:STANDARD
TZOFFSETFROM:+0200
TZOFFSETTO:+0100
TZNAME:CET
DTSTART:20271031T010000
END:STANDARD
END:VTIMEZONE
BEGIN:VEVENT
DTSTART;TZID=Europe/Vienna:20260201T083000
DTEND;TZID=Europe/Vienna:20260201T083000
DTSTAMP:20260420T212938
CREATED:20260131T144050Z
LAST-MODIFIED:20260131T144050Z
UID:3386-1769934600-1769934600@pfarredeutschkreutz.at
SUMMARY:Hl. Messe in Neckenmarkt
DESCRIPTION:
URL:https://pfarredeutschkreutz.at/termin/hl-messe-in-neckenmarkt-60/
LOCATION:Pfarrkirche Neckenmarkt
CATEGORIES:Gottesdienst
END:VEVENT
BEGIN:VEVENT
DTSTART;TZID=Europe/Vienna:20260201T094500
DTEND;TZID=Europe/Vienna:20260201T094500
DTSTAMP:20260420T212938
CREATED:20260131T144051Z
LAST-MODIFIED:20260131T144051Z
UID:3387-1769939100-1769939100@pfarredeutschkreutz.at
SUMMARY:Hl. Messe in Deutschkreutz
DESCRIPTION:
URL:https://pfarredeutschkreutz.at/termin/hl-messe-in-deutschkreutz-41/
LOCATION:Pfarrkirche Deutschkreutz
CATEGORIES:Gottesdienst
END:VEVENT
BEGIN:VEVENT
DTSTART;TZID=Europe/Vienna:20260202T170000
DTEND;TZID=Europe/Vienna:20260202T170000
DTSTAMP:20260420T212938
CREATED:20260131T144051Z
LAST-MODIFIED:20260131T144051Z
UID:3388-1770051600-1770051600@pfarredeutschkreutz.at
SUMMARY:Hl. Messe in Neckenmarkt mit Spendung des Blasiussegens
DESCRIPTION:
URL:https://pfarredeutschkreutz.at/termin/hl-messe-in-neckenmarkt-mit-spendung-des-blasiussegens/
LOCATION:Pfarrkirche Neckenmarkt
CATEGORIES:Gottesdienst
END:VEVENT
BEGIN:VEVENT
DTSTART;TZID=Europe/Vienna:20260202T183000
DTEND;TZID=Europe/Vienna:20260202T183000
DTSTAMP:20260420T212938
CREATED:20260131T144051Z
LAST-MODIFIED:20260131T144051Z
UID:3389-1770057000-1770057000@pfarredeutschkreutz.at
SUMMARY:Hl. Messe in Deutschkreutz mit Spendung des Blasiussegens
DESCRIPTION:
URL:https://pfarredeutschkreutz.at/termin/hl-messe-in-deutschkreutz-mit-spendung-des-blasiussegens/
LOCATION:Pfarrkirche Deutschkreutz
CATEGORIES:Gottesdienst
END:VEVENT
BEGIN:VEVENT
DTSTART;TZID=Europe/Vienna:20260203T170000
DTEND;TZID=Europe/Vienna:20260203T170000
DTSTAMP:20260420T212938
CREATED:20260131T144051Z
LAST-MODIFIED:20260131T144051Z
UID:3390-1770138000-1770138000@pfarredeutschkreutz.at
SUMMARY:Ministrantenstunde in Deutschkreutz
DESCRIPTION:
URL:https://pfarredeutschkreutz.at/termin/ministrantenstunde-in-deutschkreutz/
LOCATION:Pfarrkirche Deutschkreutz
CATEGORIES:Ministrantenstunde
END:VEVENT
BEGIN:VEVENT
DTSTART;TZID=Europe/Vienna:20260203T184500
DTEND;TZID=Europe/Vienna:20260203T184500
DTSTAMP:20260420T212938
CREATED:20260131T144052Z
LAST-MODIFIED:20260131T144052Z
UID:3391-1770144300-1770144300@pfarredeutschkreutz.at
SUMMARY:Bibelteilen mit Pastoralpraktikant Thomas Jakowitsch
DESCRIPTION:
URL:https://pfarredeutschkreutz.at/termin/bibelteilen-mit-pastoralpraktikant-thomas-jakowitsch/
CATEGORIES:Andacht
END:VEVENT
BEGIN:VEVENT
DTSTART;TZID=Europe/Vienna:20260204T090000
DTEND;TZID=Europe/Vienna:20260204T090000
DTSTAMP:20260420T212938
CREATED:20260131T144052Z
LAST-MODIFIED:20260131T144052Z
UID:3392-1770195600-1770195600@pfarredeutschkreutz.at
SUMMARY:Hl. Messe in Deutschkreutz
DESCRIPTION:
URL:https://pfarredeutschkreutz.at/termin/hl-messe-in-deutschkreutz-42/
LOCATION:Pfarrkirche Deutschkreutz
CATEGORIES:Gottesdienst
END:VEVENT
BEGIN:VEVENT
DTSTART;TZID=Europe/Vienna:20260205T150000
DTEND;TZID=Europe/Vienna:20260205T150000
DTSTAMP:20260420T212938
CREATED:20260131T144052Z
LAST-MODIFIED:20260131T144052Z
UID:3393-1770303600-1770303600@pfarredeutschkreutz.at
SUMMARY:Hl. Messe im Haus Lisa
DESCRIPTION:
URL:https://pfarredeutschkreutz.at/termin/hl-messe-im-haus-lisa-9/
CATEGORIES:Gottesdienst
END:VEVENT
BEGIN:VEVENT
DTSTART;TZID=Europe/Vienna:20260206T180000
DTEND;TZID=Europe/Vienna:20260206T180000
DTSTAMP:20260420T212938
CREATED:20260131T144052Z
LAST-MODIFIED:20260131T144052Z
UID:3394-1770400800-1770400800@pfarredeutschkreutz.at
SUMMARY:Hl. Messe in Neckenmarkt
DESCRIPTION:
URL:https://pfarredeutschkreutz.at/termin/hl-messe-in-neckenmarkt-61/
LOCATION:Pfarrkirche Neckenmarkt
CATEGORIES:Gottesdienst
END:VEVENT
BEGIN:VEVENT
DTSTART;TZID=Europe/Vienna:20260207T100000
DTEND;TZID=Europe/Vienna:20260207T100000
DTSTAMP:20260420T212938
CREATED:20260131T144052Z
LAST-MODIFIED:20260131T144052Z
UID:3395-1770458400-1770458400@pfarredeutschkreutz.at
SUMMARY:Ministrantenstunde in Deutschkreutz
DESCRIPTION:
URL:https://pfarredeutschkreutz.at/termin/ministrantenstunde-in-deutschkreutz-2/
LOCATION:Pfarrkirche Deutschkreutz
CATEGORIES:Ministrantenstunde
END:VEVENT
BEGIN:VEVENT
DTSTART;TZID=Europe/Vienna:20260207T180000
DTEND;TZID=Europe/Vienna:20260207T180000
DTSTAMP:20260420T212938
CREATED:20260131T144053Z
LAST-MODIFIED:20260131T144053Z
UID:3396-1770487200-1770487200@pfarredeutschkreutz.at
SUMMARY:Sonntag-Vorabendmesse in Deutschkreutz
DESCRIPTION:
URL:https://pfarredeutschkreutz.at/termin/sonntag-vorabendmesse-in-deutschkreutz-27/
LOCATION:Pfarrkirche Deutschkreutz
CATEGORIES:Gottesdienst
END:VEVENT
BEGIN:VEVENT
DTSTART;TZID=Europe/Vienna:20260208T083000
DTEND;TZID=Europe/Vienna:20260208T083000
DTSTAMP:20260420T212938
CREATED:20260131T144053Z
LAST-MODIFIED:20260131T144053Z
UID:3397-1770539400-1770539400@pfarredeutschkreutz.at
SUMMARY:Hl. Messe in Neckenmarkt
DESCRIPTION:
URL:https://pfarredeutschkreutz.at/termin/hl-messe-in-neckenmarkt-62/
LOCATION:Pfarrkirche Neckenmarkt
CATEGORIES:Gottesdienst
END:VEVENT
BEGIN:VEVENT
DTSTART;TZID=Europe/Vienna:20260208T094500
DTEND;TZID=Europe/Vienna:20260208T094500
DTSTAMP:20260420T212938
CREATED:20260131T144053Z
LAST-MODIFIED:20260131T144053Z
UID:3398-1770543900-1770543900@pfarredeutschkreutz.at
SUMMARY:Hl. Messe in Deutschkreutz
DESCRIPTION:
URL:https://pfarredeutschkreutz.at/termin/hl-messe-in-deutschkreutz-43/
LOCATION:Pfarrkirche Deutschkreutz
CATEGORIES:Gottesdienst
END:VEVENT
BEGIN:VEVENT
DTSTART;TZID=Europe/Vienna:20260210T180000
DTEND;TZID=Europe/Vienna:20260210T180000
DTSTAMP:20260420T212938
CREATED:20260131T144053Z
LAST-MODIFIED:20260131T144053Z
UID:3399-1770746400-1770746400@pfarredeutschkreutz.at
SUMMARY:Hl. Messe in Neckenmarkt
DESCRIPTION:
URL:https://pfarredeutschkreutz.at/termin/hl-messe-in-neckenmarkt-63/
LOCATION:Pfarrkirche Neckenmarkt
CATEGORIES:Gottesdienst
END:VEVENT
BEGIN:VEVENT
DTSTART;TZID=Europe/Vienna:20260211T090000
DTEND;TZID=Europe/Vienna:20260211T090000
DTSTAMP:20260420T212938
CREATED:20260131T144053Z
LAST-MODIFIED:20260131T144053Z
UID:3400-1770800400-1770800400@pfarredeutschkreutz.at
SUMMARY:Hl. Messe in Deutschkreutz
DESCRIPTION:
URL:https://pfarredeutschkreutz.at/termin/hl-messe-in-deutschkreutz-44/
LOCATION:Pfarrkirche Deutschkreutz
CATEGORIES:Gottesdienst
END:VEVENT
BEGIN:VEVENT
DTSTART;TZID=Europe/Vienna:20260213T180000
DTEND;TZID=Europe/Vienna:20260213T180000
DTSTAMP:20260420T212938
CREATED:20260131T144109Z
LAST-MODIFIED:20260131T144109Z
UID:3401-1771005600-1771005600@pfarredeutschkreutz.at
SUMMARY:Hl. Messe in Neckenmarkt
DESCRIPTION:
URL:https://pfarredeutschkreutz.at/termin/hl-messe-in-neckenmarkt-64/
LOCATION:Pfarrkirche Neckenmarkt
CATEGORIES:Gottesdienst
END:VEVENT
BEGIN:VEVENT
DTSTART;TZID=Europe/Vienna:20260214T180000
DTEND;TZID=Europe/Vienna:20260214T180000
DTSTAMP:20260420T212938
CREATED:20260131T144109Z
LAST-MODIFIED:20260131T144109Z
UID:3402-1771092000-1771092000@pfarredeutschkreutz.at
SUMMARY:Sonntag-Vorabendmesse in Deutschkreutz
DESCRIPTION:
URL:https://pfarredeutschkreutz.at/termin/sonntag-vorabendmesse-in-deutschkreutz-28/
LOCATION:Pfarrkirche Deutschkreutz
CATEGORIES:Gottesdienst
END:VEVENT
BEGIN:VEVENT
DTSTART;TZID=Europe/Vienna:20260215T083000
DTEND;TZID=Europe/Vienna:20260215T083000
DTSTAMP:20260420T212938
CREATED:20260131T144109Z
LAST-MODIFIED:20260131T144109Z
UID:3403-1771144200-1771144200@pfarredeutschkreutz.at
SUMMARY:Hl. Messe in Neckenmarkt
DESCRIPTION:
URL:https://pfarredeutschkreutz.at/termin/hl-messe-in-neckenmarkt-65/
LOCATION:Pfarrkirche Neckenmarkt
CATEGORIES:Gottesdienst
END:VEVENT
BEGIN:VEVENT
DTSTART;TZID=Europe/Vienna:20260215T100000
DTEND;TZID=Europe/Vienna:20260215T100000
DTSTAMP:20260420T212938
CREATED:20260131T144109Z
LAST-MODIFIED:20260131T144109Z
UID:3404-1771149600-1771149600@pfarredeutschkreutz.at
SUMMARY:Hl. Messe in Deutschkreutz - Vorstellung der Erstkommunionkinder
DESCRIPTION:
URL:https://pfarredeutschkreutz.at/termin/hl-messe-in-deutschkreutz-vorstellung-der-erstkommunionkinder/
LOCATION:Pfarrkirche Deutschkreutz
CATEGORIES:Gottesdienst
END:VEVENT
BEGIN:VEVENT
DTSTART;TZID=Europe/Vienna:20260218T150000
DTEND;TZID=Europe/Vienna:20260218T150000
DTSTAMP:20260420T212938
CREATED:20260131T144110Z
LAST-MODIFIED:20260131T144110Z
UID:3405-1771426800-1771426800@pfarredeutschkreutz.at
SUMMARY:Hl. Messe mit Aschenkreuz im Haus Lisa
DESCRIPTION:
URL:https://pfarredeutschkreutz.at/termin/hl-messe-mit-aschenkreuz-im-haus-lisa/
CATEGORIES:Gottesdienst
END:VEVENT
BEGIN:VEVENT
DTSTART;TZID=Europe/Vienna:20260218T170000
DTEND;TZID=Europe/Vienna:20260218T170000
DTSTAMP:20260420T212938
CREATED:20260131T144310Z
LAST-MODIFIED:20260131T144310Z
UID:3406-1771434000-1771434000@pfarredeutschkreutz.at
SUMMARY:Hl. Messe mit Aschenkreuz in Neckenmarkt
DESCRIPTION:
URL:https://pfarredeutschkreutz.at/termin/hl-messe-mit-aschenkreuz-in-neckenmarkt/
LOCATION:Pfarrkirche Neckenmarkt
CATEGORIES:Gottesdienst
END:VEVENT
BEGIN:VEVENT
DTSTART;TZID=Europe/Vienna:20260218T183000
DTEND;TZID=Europe/Vienna:20260218T183000
DTSTAMP:20260420T212938
CREATED:20260131T144310Z
LAST-MODIFIED:20260131T144310Z
UID:3407-1771439400-1771439400@pfarredeutschkreutz.at
SUMMARY:Hl. Messe mit Aschenkreuz in Deutschkreutz
DESCRIPTION:
URL:https://pfarredeutschkreutz.at/termin/hl-messe-mit-aschenkreuz-in-deutschkreutz/
LOCATION:Pfarrkirche Deutschkreutz
CATEGORIES:Gottesdienst
END:VEVENT
BEGIN:VEVENT
DTSTART;TZID=Europe/Vienna:20260219T150000
DTEND;TZID=Europe/Vienna:20260219T150000
DTSTAMP:20260420T212938
CREATED:20260131T144311Z
LAST-MODIFIED:20260131T144311Z
UID:3408-1771513200-1771513200@pfarredeutschkreutz.at
SUMMARY:Hl. Messe im Haus Lisa
DESCRIPTION:
URL:https://pfarredeutschkreutz.at/termin/hl-messe-im-haus-lisa-10/
CATEGORIES:Gottesdienst
END:VEVENT
BEGIN:VEVENT
DTSTART;TZID=Europe/Vienna:20260220T180000
DTEND;TZID=Europe/Vienna:20260220T180000
DTSTAMP:20260420T212938
CREATED:20260131T144311Z
LAST-MODIFIED:20260131T144311Z
UID:3409-1771610400-1771610400@pfarredeutschkreutz.at
SUMMARY:Hl. Messe in Neckenmarkt
DESCRIPTION:
URL:https://pfarredeutschkreutz.at/termin/hl-messe-in-neckenmarkt-66/
LOCATION:Pfarrkirche Neckenmarkt
CATEGORIES:Gottesdienst
END:VEVENT
BEGIN:VEVENT
DTSTART;TZID=Europe/Vienna:20260220T190000
DTEND;TZID=Europe/Vienna:20260220T190000
DTSTAMP:20260420T212938
CREATED:20260131T144311Z
LAST-MODIFIED:20260131T144311Z
UID:3410-1771614000-1771614000@pfarredeutschkreutz.at
SUMMARY:Kirchenkonzert durch die Militärmusik Burgenland
DESCRIPTION:
URL:https://pfarredeutschkreutz.at/termin/kirchenkonzert-durch-die-militaermusik-burgenland/
LOCATION:Pfarrkirche Deutschkreutz
CATEGORIES:Konzert
END:VEVENT
BEGIN:VEVENT
DTSTART;TZID=Europe/Vienna:20260221T180000
DTEND;TZID=Europe/Vienna:20260221T180000
DTSTAMP:20260420T212938
CREATED:20260131T144512Z
LAST-MODIFIED:20260131T144512Z
UID:3411-1771696800-1771696800@pfarredeutschkreutz.at
SUMMARY:Sonntag-Vorabendmesse in Deutschkreutz
DESCRIPTION:
URL:https://pfarredeutschkreutz.at/termin/sonntag-vorabendmesse-in-deutschkreutz-29/
LOCATION:Pfarrkirche Deutschkreutz
CATEGORIES:Gottesdienst
END:VEVENT
BEGIN:VEVENT
DTSTART;TZID=Europe/Vienna:20260222T083000
DTEND;TZID=Europe/Vienna:20260222T083000
DTSTAMP:20260420T212938
CREATED:20260131T144512Z
LAST-MODIFIED:20260131T144512Z
UID:3412-1771749000-1771749000@pfarredeutschkreutz.at
SUMMARY:Hl. Messe in Neckenmarkt - Bienenamt und Vorstellung der Erstkommunionkinder
DESCRIPTION:
URL:https://pfarredeutschkreutz.at/termin/hl-messe-in-neckenmarkt-bienenamt-und-vorstellung-der-erstkommunionkinder/
LOCATION:Pfarrkirche Neckenmarkt
CATEGORIES:Gottesdienst
END:VEVENT
BEGIN:VEVENT
DTSTART;TZID=Europe/Vienna:20260222T094500
DTEND;TZID=Europe/Vienna:20260222T094500
DTSTAMP:20260420T212938
CREATED:20260131T144512Z
LAST-MODIFIED:20260131T144512Z
UID:3413-1771753500-1771753500@pfarredeutschkreutz.at
SUMMARY:Hl. Messe in Deutschkreutz - Bienenamt mit Familienmesse und Vorstellung der Firmlinge
DESCRIPTION:
URL:https://pfarredeutschkreutz.at/termin/hl-messe-in-deutschkreutz-bienenamt-mit-familienmesse-und-vorstellung-der-firmlinge/
LOCATION:Pfarrkirche Deutschkreutz
CATEGORIES:Gottesdienst
END:VEVENT
BEGIN:VEVENT
DTSTART;TZID=Europe/Vienna:20260224T180000
DTEND;TZID=Europe/Vienna:20260224T180000
DTSTAMP:20260420T212938
CREATED:20260131T144512Z
LAST-MODIFIED:20260131T144512Z
UID:3414-1771956000-1771956000@pfarredeutschkreutz.at
SUMMARY:Hl. Messe in Neckenmarkt
DESCRIPTION:
URL:https://pfarredeutschkreutz.at/termin/hl-messe-in-neckenmarkt-67/
LOCATION:Pfarrkirche Neckenmarkt
CATEGORIES:Gottesdienst
END:VEVENT
BEGIN:VEVENT
DTSTART;TZID=Europe/Vienna:20260225T090000
DTEND;TZID=Europe/Vienna:20260225T090000
DTSTAMP:20260420T212938
CREATED:20260131T144512Z
LAST-MODIFIED:20260131T144512Z
UID:3415-1772010000-1772010000@pfarredeutschkreutz.at
SUMMARY:Hl. Messe in Deutschkreutz
DESCRIPTION:
URL:https://pfarredeutschkreutz.at/termin/hl-messe-in-deutschkreutz-45/
LOCATION:Pfarrkirche Deutschkreutz
CATEGORIES:Gottesdienst
END:VEVENT
END:VCALENDAR