BEGIN:VCALENDAR
VERSION:2.0
PRODID:-//Pfarre Deutschkreutz - ECPv6.15.20//NONSGML v1.0//EN
CALSCALE:GREGORIAN
METHOD:PUBLISH
X-WR-CALNAME:Pfarre Deutschkreutz
X-ORIGINAL-URL:https://pfarredeutschkreutz.at
X-WR-CALDESC:Veranstaltungen für Pfarre Deutschkreutz
REFRESH-INTERVAL;VALUE=DURATION:PT1H
X-Robots-Tag:noindex
X-PUBLISHED-TTL:PT1H
BEGIN:VTIMEZONE
TZID:Europe/Vienna
BEGIN:DAYLIGHT
TZOFFSETFROM:+0100
TZOFFSETTO:+0200
TZNAME:CEST
DTSTART:20250330T010000
END:DAYLIGHT
BEGIN:STANDARD
TZOFFSETFROM:+0200
TZOFFSETTO:+0100
TZNAME:CET
DTSTART:20251026T010000
END:STANDARD
BEGIN:DAYLIGHT
TZOFFSETFROM:+0100
TZOFFSETTO:+0200
TZNAME:CEST
DTSTART:20260329T010000
END:DAYLIGHT
BEGIN:STANDARD
TZOFFSETFROM:+0200
TZOFFSETTO:+0100
TZNAME:CET
DTSTART:20261025T010000
END:STANDARD
BEGIN:DAYLIGHT
TZOFFSETFROM:+0100
TZOFFSETTO:+0200
TZNAME:CEST
DTSTART:20270328T010000
END:DAYLIGHT
BEGIN:STANDARD
TZOFFSETFROM:+0200
TZOFFSETTO:+0100
TZNAME:CET
DTSTART:20271031T010000
END:STANDARD
END:VTIMEZONE
BEGIN:VEVENT
DTSTART;TZID=Europe/Vienna:20260419T083000
DTEND;TZID=Europe/Vienna:20260419T083000
DTSTAMP:20260419T195359
CREATED:20260327T124201Z
LAST-MODIFIED:20260327T124201Z
UID:3532-1776587400-1776587400@pfarredeutschkreutz.at
SUMMARY:Hl. Messe in Neckenmarkt
DESCRIPTION:
URL:https://pfarredeutschkreutz.at/termin/hl-messe-in-neckenmarkt-74/
LOCATION:Pfarrkirche Neckenmarkt
CATEGORIES:Gottesdienst
END:VEVENT
BEGIN:VEVENT
DTSTART;TZID=Europe/Vienna:20260419T094500
DTEND;TZID=Europe/Vienna:20260419T094500
DTSTAMP:20260419T195359
CREATED:20260327T124201Z
LAST-MODIFIED:20260327T124201Z
UID:3533-1776591900-1776591900@pfarredeutschkreutz.at
SUMMARY:Hl. Messe in Deutschkreutz
DESCRIPTION:
URL:https://pfarredeutschkreutz.at/termin/hl-messe-in-deutschkreutz-50/
LOCATION:Pfarrkirche Deutschkreutz
CATEGORIES:Gottesdienst
END:VEVENT
BEGIN:VEVENT
DTSTART;TZID=Europe/Vienna:20260419T110000
DTEND;TZID=Europe/Vienna:20260419T110000
DTSTAMP:20260419T195359
CREATED:20260327T124201Z
LAST-MODIFIED:20260327T124201Z
UID:3534-1776596400-1776596400@pfarredeutschkreutz.at
SUMMARY:Taufe Jakob Strobl in Deutschkreutz
DESCRIPTION:
URL:https://pfarredeutschkreutz.at/termin/taufe-jakob-strobl-in-deutschkreutz/
LOCATION:Pfarrkirche Deutschkreutz
CATEGORIES:Taufe
END:VEVENT
END:VCALENDAR