BEGIN:VCALENDAR
VERSION:2.0
PRODID:-//Pfarre Deutschkreutz - ECPv6.15.20//NONSGML v1.0//EN
CALSCALE:GREGORIAN
METHOD:PUBLISH
X-ORIGINAL-URL:https://pfarredeutschkreutz.at
X-WR-CALDESC:Veranstaltungen für Pfarre Deutschkreutz
REFRESH-INTERVAL;VALUE=DURATION:PT1H
X-Robots-Tag:noindex
X-PUBLISHED-TTL:PT1H
BEGIN:VTIMEZONE
TZID:Europe/Vienna
BEGIN:DAYLIGHT
TZOFFSETFROM:+0100
TZOFFSETTO:+0200
TZNAME:CEST
DTSTART:20250330T010000
END:DAYLIGHT
BEGIN:STANDARD
TZOFFSETFROM:+0200
TZOFFSETTO:+0100
TZNAME:CET
DTSTART:20251026T010000
END:STANDARD
BEGIN:DAYLIGHT
TZOFFSETFROM:+0100
TZOFFSETTO:+0200
TZNAME:CEST
DTSTART:20260329T010000
END:DAYLIGHT
BEGIN:STANDARD
TZOFFSETFROM:+0200
TZOFFSETTO:+0100
TZNAME:CET
DTSTART:20261025T010000
END:STANDARD
BEGIN:DAYLIGHT
TZOFFSETFROM:+0100
TZOFFSETTO:+0200
TZNAME:CEST
DTSTART:20270328T010000
END:DAYLIGHT
BEGIN:STANDARD
TZOFFSETFROM:+0200
TZOFFSETTO:+0100
TZNAME:CET
DTSTART:20271031T010000
END:STANDARD
END:VTIMEZONE
BEGIN:VEVENT
DTSTART;TZID=Europe/Vienna:20260412T083000
DTEND;TZID=Europe/Vienna:20260412T083000
DTSTAMP:20260420T163412
CREATED:20260327T123758Z
LAST-MODIFIED:20260327T123758Z
UID:3525-1775982600-1775982600@pfarredeutschkreutz.at
SUMMARY:Hl. Messe in Neckenmarkt
DESCRIPTION:
URL:https://pfarredeutschkreutz.at/termin/hl-messe-in-neckenmarkt-71/
LOCATION:Pfarrkirche Neckenmarkt
CATEGORIES:Gottesdienst
END:VEVENT
BEGIN:VEVENT
DTSTART;TZID=Europe/Vienna:20260412T094500
DTEND;TZID=Europe/Vienna:20260412T094500
DTSTAMP:20260420T163412
CREATED:20260327T124000Z
LAST-MODIFIED:20260327T124000Z
UID:3526-1775987100-1775987100@pfarredeutschkreutz.at
SUMMARY:Hl. Messe in Deutschkreutz
DESCRIPTION:
URL:https://pfarredeutschkreutz.at/termin/hl-messe-in-deutschkreutz-48/
LOCATION:Pfarrkirche Deutschkreutz
CATEGORIES:Gottesdienst
END:VEVENT
BEGIN:VEVENT
DTSTART;TZID=Europe/Vienna:20260412T150000
DTEND;TZID=Europe/Vienna:20260412T150000
DTSTAMP:20260420T163412
CREATED:20260327T124000Z
LAST-MODIFIED:20260327T124000Z
UID:3527-1776006000-1776006000@pfarredeutschkreutz.at
SUMMARY:Anbetung in Neckenmarkt (Stunde der Barmherzigkeit)
DESCRIPTION:
URL:https://pfarredeutschkreutz.at/termin/anbetung-in-neckenmarkt-stunde-der-barmherzigkeit/
LOCATION:Pfarrkirche Neckenmarkt
CATEGORIES:Andacht
END:VEVENT
END:VCALENDAR