BEGIN:VCALENDAR
VERSION:2.0
PRODID:-//Pfarre Deutschkreutz - ECPv6.15.20//NONSGML v1.0//EN
CALSCALE:GREGORIAN
METHOD:PUBLISH
X-ORIGINAL-URL:https://pfarredeutschkreutz.at
X-WR-CALDESC:Veranstaltungen für Pfarre Deutschkreutz
REFRESH-INTERVAL;VALUE=DURATION:PT1H
X-Robots-Tag:noindex
X-PUBLISHED-TTL:PT1H
BEGIN:VTIMEZONE
TZID:Europe/Vienna
BEGIN:DAYLIGHT
TZOFFSETFROM:+0100
TZOFFSETTO:+0200
TZNAME:CEST
DTSTART:20250330T010000
END:DAYLIGHT
BEGIN:STANDARD
TZOFFSETFROM:+0200
TZOFFSETTO:+0100
TZNAME:CET
DTSTART:20251026T010000
END:STANDARD
BEGIN:DAYLIGHT
TZOFFSETFROM:+0100
TZOFFSETTO:+0200
TZNAME:CEST
DTSTART:20260329T010000
END:DAYLIGHT
BEGIN:STANDARD
TZOFFSETFROM:+0200
TZOFFSETTO:+0100
TZNAME:CET
DTSTART:20261025T010000
END:STANDARD
BEGIN:DAYLIGHT
TZOFFSETFROM:+0100
TZOFFSETTO:+0200
TZNAME:CEST
DTSTART:20270328T010000
END:DAYLIGHT
BEGIN:STANDARD
TZOFFSETFROM:+0200
TZOFFSETTO:+0100
TZNAME:CET
DTSTART:20271031T010000
END:STANDARD
END:VTIMEZONE
BEGIN:VEVENT
DTSTART;TZID=Europe/Vienna:20260402T173000
DTEND;TZID=Europe/Vienna:20260402T173000
DTSTAMP:20260420T163528
CREATED:20260327T123442Z
LAST-MODIFIED:20260327T123442Z
UID:3500-1775151000-1775151000@pfarredeutschkreutz.at
SUMMARY:Messe vom letzten Abendmahl in Neckenmarkt (anschließend Ölbergstunde)
DESCRIPTION:
URL:https://pfarredeutschkreutz.at/termin/messe-vom-letzten-abendmahl-in-neckenmarkt-anschliessend-oelbergstunde/
LOCATION:Pfarrkirche Neckenmarkt
CATEGORIES:Gottesdienst
END:VEVENT
BEGIN:VEVENT
DTSTART;TZID=Europe/Vienna:20260402T193000
DTEND;TZID=Europe/Vienna:20260402T193000
DTSTAMP:20260420T163528
CREATED:20260327T123445Z
LAST-MODIFIED:20260327T123445Z
UID:3501-1775158200-1775158200@pfarredeutschkreutz.at
SUMMARY:Messe vom letzten Abendmahl in Deutschkreutz (anschließend Ölbergstunde)
DESCRIPTION:
URL:https://pfarredeutschkreutz.at/termin/messe-vom-letzten-abendmahl-in-deutschkreutz-anschliessend-oelbergstunde/
LOCATION:Pfarrkirche Deutschkreutz
CATEGORIES:Gottesdienst
END:VEVENT
BEGIN:VEVENT
DTSTART;TZID=Europe/Vienna:20260402T230000
DTEND;TZID=Europe/Vienna:20260402T230000
DTSTAMP:20260420T163528
CREATED:20260327T123445Z
LAST-MODIFIED:20260327T123445Z
UID:3502-1775170800-1775170800@pfarredeutschkreutz.at
SUMMARY:Anbetung in Neckenmarkt
DESCRIPTION:
URL:https://pfarredeutschkreutz.at/termin/anbetung-in-neckenmarkt/
LOCATION:Pfarrkirche Neckenmarkt
CATEGORIES:Andacht
END:VEVENT
BEGIN:VEVENT
DTSTART;TZID=Europe/Vienna:20260402T230000
DTEND;TZID=Europe/Vienna:20260402T230000
DTSTAMP:20260420T163528
CREATED:20260327T123445Z
LAST-MODIFIED:20260327T123445Z
UID:3503-1775170800-1775170800@pfarredeutschkreutz.at
SUMMARY:Anbetung in Deutschkreutz
DESCRIPTION:
URL:https://pfarredeutschkreutz.at/termin/anbetung-in-deutschkreutz/
LOCATION:Pfarrkirche Deutschkreutz
CATEGORIES:Andacht
END:VEVENT
END:VCALENDAR