BEGIN:VCALENDAR
VERSION:2.0
PRODID:-//Pfarre Deutschkreutz - ECPv6.15.20//NONSGML v1.0//EN
CALSCALE:GREGORIAN
METHOD:PUBLISH
X-WR-CALNAME:Pfarre Deutschkreutz
X-ORIGINAL-URL:https://pfarredeutschkreutz.at
X-WR-CALDESC:Veranstaltungen für Pfarre Deutschkreutz
REFRESH-INTERVAL;VALUE=DURATION:PT1H
X-Robots-Tag:noindex
X-PUBLISHED-TTL:PT1H
BEGIN:VTIMEZONE
TZID:Europe/Vienna
BEGIN:DAYLIGHT
TZOFFSETFROM:+0100
TZOFFSETTO:+0200
TZNAME:CEST
DTSTART:20250330T010000
END:DAYLIGHT
BEGIN:STANDARD
TZOFFSETFROM:+0200
TZOFFSETTO:+0100
TZNAME:CET
DTSTART:20251026T010000
END:STANDARD
BEGIN:DAYLIGHT
TZOFFSETFROM:+0100
TZOFFSETTO:+0200
TZNAME:CEST
DTSTART:20260329T010000
END:DAYLIGHT
BEGIN:STANDARD
TZOFFSETFROM:+0200
TZOFFSETTO:+0100
TZNAME:CET
DTSTART:20261025T010000
END:STANDARD
BEGIN:DAYLIGHT
TZOFFSETFROM:+0100
TZOFFSETTO:+0200
TZNAME:CEST
DTSTART:20270328T010000
END:DAYLIGHT
BEGIN:STANDARD
TZOFFSETFROM:+0200
TZOFFSETTO:+0100
TZNAME:CET
DTSTART:20271031T010000
END:STANDARD
END:VTIMEZONE
BEGIN:VEVENT
DTSTART;TZID=Europe/Vienna:20260203T170000
DTEND;TZID=Europe/Vienna:20260203T170000
DTSTAMP:20260421T022025
CREATED:20260131T144051Z
LAST-MODIFIED:20260131T144051Z
UID:3390-1770138000-1770138000@pfarredeutschkreutz.at
SUMMARY:Ministrantenstunde in Deutschkreutz
DESCRIPTION:
URL:https://pfarredeutschkreutz.at/termin/ministrantenstunde-in-deutschkreutz/
LOCATION:Pfarrkirche Deutschkreutz
CATEGORIES:Ministrantenstunde
END:VEVENT
BEGIN:VEVENT
DTSTART;TZID=Europe/Vienna:20260203T184500
DTEND;TZID=Europe/Vienna:20260203T184500
DTSTAMP:20260421T022025
CREATED:20260131T144052Z
LAST-MODIFIED:20260131T144052Z
UID:3391-1770144300-1770144300@pfarredeutschkreutz.at
SUMMARY:Bibelteilen mit Pastoralpraktikant Thomas Jakowitsch
DESCRIPTION:
URL:https://pfarredeutschkreutz.at/termin/bibelteilen-mit-pastoralpraktikant-thomas-jakowitsch/
CATEGORIES:Andacht
END:VEVENT
END:VCALENDAR